BEGIN:VCALENDAR
VERSION:2.0
PRODID:-//Hong Kong Electronics &amp; Technologies Association - ECPv5.16.0//NONSGML v1.0//EN
CALSCALE:GREGORIAN
METHOD:PUBLISH
X-ORIGINAL-URL:https://hketa.org.hk
X-WR-CALDESC:Events for Hong Kong Electronics &amp; Technologies Association
REFRESH-INTERVAL;VALUE=DURATION:PT1H
X-Robots-Tag:noindex
X-PUBLISHED-TTL:PT1H
BEGIN:VTIMEZONE
TZID:UTC
BEGIN:STANDARD
TZOFFSETFROM:+0000
TZOFFSETTO:+0000
TZNAME:UTC
DTSTART:20210101T000000
END:STANDARD
END:VTIMEZONE
BEGIN:VEVENT
DTSTART;TZID=UTC:20220930T090000
DTEND;TZID=UTC:20220930T163000
DTSTAMP:20260422T143205
CREATED:20220905T063817Z
LAST-MODIFIED:20220921T161137Z
UID:5172-1664528400-1664555400@hketa.org.hk
SUMMARY:LSCM Logistics Summit 2022
DESCRIPTION:Introduction \n\n\n\nThe prolonged COVID-19 pandemic has led to significant disruptions in the global supply chain and economy. Many industries have accelerated the adoption of automation and digitalisation to maintain competitiveness and\, more importantly\, to prepare for the challenges in the New Normal. \n\n\n\nIn this year’s LSCM Logistics Summit\, speakers and distinguished guests will discuss how technology could unlock the potential of businesses and drive the industry forward. Government officials\, industry experts\, business leaders and academia representatives will gather to explore the opportunities that technology advancement will bring along and share the recent industry updates. \n\n\n\n \n\n\n\nEvent details \n\n\n\nDate:            30 September 2022 (Friday) \n\n\n\nTime:            9:00am – 4:30pm \n\n\n\nAgenda: https://event.lscm.hk/summit2022/agenda/LSCMSummit2022.pdf \n\n\n\nFormat:       Conference & Webinar \n\n\n\nVenue: Grand Hall and Function Hall\, Hong Kong Science Park & Online \n\n\n\nRegistration: https://lscm2022summit.episodemaker.net/
URL:https://hketa.org.hk/event/lscm-logistics-summit-2022/
CATEGORIES:Events
ATTACH;FMTTYPE=image/jpeg:https://hketa.org.hk/wp-content/uploads/2022/09/LSCM_Logistics-Summit2022_Banner.jpg
END:VEVENT
BEGIN:VEVENT
DTSTART;TZID=UTC:20220725T090000
DTEND;TZID=UTC:20220725T170000
DTSTAMP:20260422T143205
CREATED:20220530T084644Z
LAST-MODIFIED:20220607T013617Z
UID:4528-1658739600-1658768400@hketa.org.hk
SUMMARY:Hong Kong Electronics Project Competition 2022
DESCRIPTION:Hong Kong Electronics Project Competition 2022\n2022-07-25\n\n\nRegistration is open NOW for Hong Kong Electronics Symposium 2022.\n\n \n\nHong Kong Electronics Symposium 2022 \n\nDate (Hong Kong): Monday\, 25 July 2022 (09:00-17:00)\n\nFormat: Live Webinar\n\nConference Website link:  The Hong Kong Institution of Engineers (hkie.org.hk)\n\nRegistration Fee: FREE\n\nRegistration Link: CLICK HERE!\n\n 
URL:https://hketa.org.hk/event/hong-kong-electronics-project-competition-2022/
CATEGORIES:Events
ATTACH;FMTTYPE=image/png:https://hketa.org.hk/wp-content/uploads/2022/05/Screenshot-2022-05-30-at-4.42.34-PM.png
END:VEVENT
BEGIN:VEVENT
DTSTART;TZID=UTC:20220716T114500
DTEND;TZID=UTC:20220716T183000
DTSTAMP:20260422T143205
CREATED:20220607T065728Z
LAST-MODIFIED:20220721T133320Z
UID:4931-1657971900-1657996200@hketa.org.hk
SUMMARY:Innovate For Future (IFF) 2021 Final Pitch Day
DESCRIPTION:Innovate for Future (IFF) was held successfully on 16 Jul 2022. Please click the below link to view the photos of Pitch Day: \n\n\n\nhttps://photos.app.goo.gl/b6MeHPmiSjS8UQHv9 \n\n\n\n \n\n\n\n \n\n\n\nInnovate for Future (IFF) is an open competition of innovation & technology to inspire our young people in Hong Kong to create products for solving real life problems\, from idea generation to prototype development. The competition has three streams: Primary\, Secondary\, and Tertiary Schools. Students of each stream will pitch how to move human society forward with feasible innovation and products\, under our mentors’ coaching and support in the process. \n\n\n\n\n\n\n\nIFF2021 Competition Theme : Embracing the “New Normal” with Resilience \n\n\n\n \n\n\n\nIFF2021 final pitch cum demonstration day will be held at Cyberport on 16 July 2022 and with following judging panel. \n\n\n\n \n\n\n\nJudge Members \n\n\n\nMr Alvin CHEUNG\, Co-founder & CEO\, ZunosakiDr Crystal FOK\, Head of STP Platform\, Hong Kong Science and Technology Parks CorporationMr Peter HO\, Technical Manager\, AXIS CommunicationsDr Kevin HUNG\, Head of Department of Electronic Engineering and Computer Science cum                                                                      Associate  Professor\, School of Science & Technology\, HKMUDr Frank TONG\, Director\, Research & Technology Development (System)\, LSCM\n\n\n\nhttps://www.innovateforfuture.com/\n\n\n\nIFF2021 Pitch Rundown
URL:https://hketa.org.hk/event/innovate-for-future-iff-2021/
CATEGORIES:Events
ATTACH;FMTTYPE=image/jpeg:https://hketa.org.hk/wp-content/uploads/2022/06/IFF2021-poster-20210701f-scaled.jpg
END:VEVENT
BEGIN:VEVENT
DTSTART;TZID=UTC:20220624T190000
DTEND;TZID=UTC:20220624T210000
DTSTAMP:20260422T143205
CREATED:20220607T013905Z
LAST-MODIFIED:20220622T150436Z
UID:4916-1656097200-1656104400@hketa.org.hk
SUMMARY:June 2022 Networking Sharing （Online)
DESCRIPTION:Theme: “Can Innovation & Technology be Food? 創新及科技可以吃嗎?” \n\n\n\nDate: 24 Jun 2022 (Fri)Time: 7:00pm \n\n\n\n \n\n\n\n \n\n\n\nProgramme includes: \n\n\n\nTalk 1: “素食與糧食危機的關係” – by Ms Kitty Chan\, founder of Veg Girl Club \n\n\n\n[BIO] Veg Girl Club 由素食部落客菜菜子 (@misskitb) 於2022年創立，旨在為年輕女性素食者提供分享交流平台，輕鬆學習素食、養生以至扮靚等生活知識，一齊開心享受素食生活。 \n\n\n\n \n\n\n\nTalk 2: “一個香港仔的故事” – by Jason Chai\, Director of Applause (Food Industry) \n\n\n\n \n\n\n\nTalk 3: “不同功能性塑料技術在食品包裝的應用” – by Dr Shawn Tang & Ms Yvonne Chen of Nano & Advanced Materials Institute \n\n\n\n[Abstract] Clean\, Safe\, Transparent\, and Green food packaging materials technology \n\n\n\nAlthough the consumer pressure to end plastic packaging keeps growing\, plastic remains the most effective material in many circumstances – for example\, longer storage time to reduce food waste and transparency in seeing through the fresh food inside. \n\n\n\nContamination and spoilage originate from bacteria\, oxygen\, and water vapor and may take place at any step in the supply chain\, leading to food waste and health concerns.  This seminar will showcase NAMI’s innovative solutions to food safety and preservation targeting these three factors.  \n\n\n\nNAMI’s anti-fouling Germ-Spike technologyNAMI’s oxygen and water vapor barrier technology\n\n\n\nTo overcome the fogging problem on transparent plastic wrapping materials caused by the water vapor\,  NAMI has developed a build-in anti-fog technology to provide a durable and washable anti-fog function to packaging material with a continuous production method. It will bring a low-cost antifogging solution to the food packaging industry. \n\n\n\nNAMI has also developed bio.pellets to make conventional PP and PE material environmentally degradable according to industrial standards. Compared to commercial bio-sourced plastics it offers a green and affordable solution to the packaging industry which can fulfill existing industrial plastic degradation standards. \n\n\n\n \n\n\n\n \n\n\n\n同場加映\, EC分享: \n\n\n\n“To Improve Spoken English for Primary School Students with AI” – by Mr Eric Poon\, MD of Lango Innovation Ltd. \n\n\n\n \n\n\n\n \n\n\n\nPlease CLICK HERE for registration! \n\n\n\n \n\n\n\n \n\n\n\nRemark:After the registration is confirmed\, Zoom ID and password will be sent out by email.
URL:https://hketa.org.hk/event/networking-dinner-june/
CATEGORIES:Events
ATTACH;FMTTYPE=image/jpeg:https://hketa.org.hk/wp-content/uploads/2022/06/Rev-Jun-Networking-Sharing-1.jpg
END:VEVENT
BEGIN:VEVENT
DTSTART;TZID=UTC:20220617T093000
DTEND;TZID=UTC:20220617T170000
DTSTAMP:20260422T143205
CREATED:20220607T063709Z
LAST-MODIFIED:20220607T081347Z
UID:4933-1655458200-1655485200@hketa.org.hk
SUMMARY:BEC EnviroSeries Online Conference 17 June 2022￼
DESCRIPTION:The online registration has opened. Please find the conference details (HERE) and registration form (HERE).
URL:https://hketa.org.hk/event/bec-enviroseries-online-conference-17-june-2022%ef%bf%bc/
CATEGORIES:Events
ATTACH;FMTTYPE=image/jpeg:https://hketa.org.hk/wp-content/uploads/2022/06/BEC-scaled.jpg
END:VEVENT
BEGIN:VEVENT
DTSTART;TZID=UTC:20211123T150000
DTEND;TZID=UTC:20211123T170000
DTSTAMP:20260422T143205
CREATED:20211128T090925Z
LAST-MODIFIED:20220607T112021Z
UID:4489-1637679600-1637686800@hketa.org.hk
SUMMARY:Kick-off Ceremony cum Promotion Seminar of Asia Smart App Awards 2021
DESCRIPTION:Kick-off Ceremony cum Promotion Seminar of Asia Smart App Awards 2021\n2021-11-23\n\n\nHKETA is the supporting organization of the Asia Smart App Awards 2021 which is held by Hong Kong Wireless Technology Industry Association (WTIA).\n\n \n\nKick-Off Ceremony cum Promotion Seminar\, details of the event as below:\n\n \n\nDate:                     23 November 2021 (Tuesday)\n\nTime:                    3:00pm – 5:00 pm (please arrive at 2:45 pm)\n\nVenue:                 402\, 4/F\, Shun Tak Centre\, 200 Connaught Rd Centr\n\n \n\nAgenda:\n\n1.    Welcoming Speech – Mr Roy Law\, Chairman\, WTIA\n\n2.    Keynote Speech – Ms. Jersey Yuen\, Assistant Head\, CreateHK\n\n3.    Kick-off Ceremony\n\n4.    Group Photo Session\n\n5.    Introductory Section to Asia Smart App Awards 2021\n\n6.    Panel Discussion “App Development Trends in the Covid-19 Era”\n\n7. Networking\n\n*The Ceremony and Seminar will mainly conduct in English\n\n \n\nPlease CLICK HERE for more information and registration!\n\n 
URL:https://hketa.org.hk/event/networking-dinner-27-5-22/
CATEGORIES:Events
ATTACH;FMTTYPE=image/png:https://hketa.org.hk/wp-content/uploads/2020/05/ikyuhfgddbsdfgf.png
END:VEVENT
END:VCALENDAR