BEGIN:VCALENDAR
VERSION:2.0
PRODID:-//Hong Kong Electronics &amp; Technologies Association - ECPv5.16.0//NONSGML v1.0//EN
CALSCALE:GREGORIAN
METHOD:PUBLISH
X-ORIGINAL-URL:https://hketa.org.hk
X-WR-CALDESC:Events for Hong Kong Electronics &amp; Technologies Association
REFRESH-INTERVAL;VALUE=DURATION:PT1H
X-Robots-Tag:noindex
X-PUBLISHED-TTL:PT1H
BEGIN:VTIMEZONE
TZID:UTC
BEGIN:STANDARD
TZOFFSETFROM:+0000
TZOFFSETTO:+0000
TZNAME:UTC
DTSTART:20250101T000000
END:STANDARD
END:VTIMEZONE
BEGIN:VEVENT
DTSTART;TZID=UTC:20251030T190000
DTEND;TZID=UTC:20251030T213000
DTSTAMP:20260423T050920
CREATED:20251022T055853Z
LAST-MODIFIED:20251022T060437Z
UID:7027-1761850800-1761859800@hketa.org.hk
SUMMARY:HKETA = Oct 2025 Networking Sharing and Dinner
DESCRIPTION:“Innovation at the Intersection: AI/Software Patenting & Funding Opportunity” \n \n \nGain insights\, connect with experts\, and unlock innovation opportunities. Don’t miss out on this chance to boost your potential! \n  \n \n \n \n \nDate:  28 Jul 2023 (Fri) \n \n \nVenue: Happiness Cuisine\, 1/F Core Building 2\, Science Park\, Shatin\, N.T.Time:  7:00pm – 9:30pm \n  \n \n \nDinner fee: \n \n \n$320/ person (member) \, $350/person (non member) \n  \n \n \nProgramme Includes: \n \n \n(1) “Recent Updates to the HK Patent System & AI/Software Patenting Developments” \n \n \n– by Mr Steven Fung\, Principal – Registered Patent Attorney (AU\, NZ)    \n \n \n[Abstract] Recent Trends to Global Patent Filings and HK Filing StatisticsRecent Updates to HK Filing Systems & InstrumentsAI & Software Patents – Can they be protected? What is suitable for Patent Protection in this expanding area? \n  \n \n \n(2) “An overall of Grant” – by Ms Dorothy Lee\, Partner\, PwC Hong Kong \n \n \n[Abstract] An overview of Hong Kong Government grants \n \n \n \n \nAs you may be aware\, there are over 40 government grants available in Hong Kong\, aiming at supporting various business objectives in different industries. The upcoming sharing will give an overview of common Hong Kong Government grants\, their objectives and funding rules\, application procedures and some key notes in order to prepare for a successful application. \n \n \n[Bio] Dorothy Lee is a Partner of Operations Excellence Solutions at PwC Hong Kong who is passionate about transforming organisations and processes to maximise the company value proposition. She has extensive experience in managing\, designing\, training and facilitating and implementing solutions to achieve clients’ business strategies. Dorothy has over 18 years of experience in multi-national companies\, specialising in strategic value stream transformation\, business reengineering with technologies adoption\, project management\, Lean Six Sigma\, innovation and change management facilitation. She mentors numerous projects and leadership training workshops in different countries such as Japan\, Thailand\, Malaysia\, Canada and China. Dorothy also has extensive experience in key account management\, Research and Development (R&D) project management\, government grants advisory\, supply chain transformation\, new product flawless launch and Objective and Key Results (OKR) setup. Dorothy has a Master Degree in Engineering\, and is a Certified Six Sigma Black Belt (CSSBB)\, and also a certified Project Management Professional (PMP). She is a member of the Hong Kong Logistics Association (HKLA)\, member of the Institution of Engineering and Technology (MIET)\, and member of the Institute of Electrical and Electronics Engineers (IEEE). \n 
URL:https://hketa.org.hk/event/hketa-oct-2025-networking-sharing-and-dinner/
CATEGORIES:Events
ATTACH;FMTTYPE=image/jpeg:https://hketa.org.hk/wp-content/uploads/2025/10/Oct-networking-sharing-dinner.jpg
END:VEVENT
BEGIN:VEVENT
DTSTART;TZID=UTC:20260115T183000
DTEND;TZID=UTC:20260115T213000
DTSTAMP:20260423T050921
CREATED:20251211T153638Z
LAST-MODIFIED:20251211T153714Z
UID:7042-1768501800-1768512600@hketa.org.hk
SUMMARY:18TH HKETA ANNUAL DINNER cum Executive Committee Inauguration Ceremony
DESCRIPTION:“Innovation at the Intersection: AI/Software Patenting & Funding Opportunity” \n \n \nGain insights\, connect with experts\, and unlock innovation opportunities. Don’t miss out on this chance to boost your potential! \n  \n \n \n \n \nDate:  28 Jul 2023 (Fri) \n \n \nVenue: Happiness Cuisine\, 1/F Core Building 2\, Science Park\, Shatin\, N.T.Time:  7:00pm – 9:30pm \n  \n \n \nDinner fee: \n \n \n$320/ person (member) \, $350/person (non member) \n  \n \n \nProgramme Includes: \n \n \n(1) “Recent Updates to the HK Patent System & AI/Software Patenting Developments” \n \n \n– by Mr Steven Fung\, Principal – Registered Patent Attorney (AU\, NZ)    \n \n \n[Abstract] Recent Trends to Global Patent Filings and HK Filing StatisticsRecent Updates to HK Filing Systems & InstrumentsAI & Software Patents – Can they be protected? What is suitable for Patent Protection in this expanding area? \n  \n \n \n(2) “An overall of Grant” – by Ms Dorothy Lee\, Partner\, PwC Hong Kong \n \n \n[Abstract] An overview of Hong Kong Government grants \n \n \n \n \nAs you may be aware\, there are over 40 government grants available in Hong Kong\, aiming at supporting various business objectives in different industries. The upcoming sharing will give an overview of common Hong Kong Government grants\, their objectives and funding rules\, application procedures and some key notes in order to prepare for a successful application. \n \n \n[Bio] Dorothy Lee is a Partner of Operations Excellence Solutions at PwC Hong Kong who is passionate about transforming organisations and processes to maximise the company value proposition. She has extensive experience in managing\, designing\, training and facilitating and implementing solutions to achieve clients’ business strategies. Dorothy has over 18 years of experience in multi-national companies\, specialising in strategic value stream transformation\, business reengineering with technologies adoption\, project management\, Lean Six Sigma\, innovation and change management facilitation. She mentors numerous projects and leadership training workshops in different countries such as Japan\, Thailand\, Malaysia\, Canada and China. Dorothy also has extensive experience in key account management\, Research and Development (R&D) project management\, government grants advisory\, supply chain transformation\, new product flawless launch and Objective and Key Results (OKR) setup. Dorothy has a Master Degree in Engineering\, and is a Certified Six Sigma Black Belt (CSSBB)\, and also a certified Project Management Professional (PMP). She is a member of the Hong Kong Logistics Association (HKLA)\, member of the Institution of Engineering and Technology (MIET)\, and member of the Institute of Electrical and Electronics Engineers (IEEE). \n 
URL:https://hketa.org.hk/event/18th-hketa-annual-dinner-cum-executive-commitee-inauguration-ceremony/
CATEGORIES:Events
ATTACH;FMTTYPE=image/jpeg:https://hketa.org.hk/wp-content/uploads/2025/12/Annual-Dinner-eFlyer-with-Price.jpg
END:VEVENT
END:VCALENDAR