BEGIN:VCALENDAR
VERSION:2.0
PRODID:-//Hong Kong Electronics &amp; Technologies Association - ECPv5.16.0//NONSGML v1.0//EN
CALSCALE:GREGORIAN
METHOD:PUBLISH
X-WR-CALNAME:Hong Kong Electronics &amp; Technologies Association
X-ORIGINAL-URL:https://hketa.org.hk
X-WR-CALDESC:Events for Hong Kong Electronics &amp; Technologies Association
REFRESH-INTERVAL;VALUE=DURATION:PT1H
X-Robots-Tag:noindex
X-PUBLISHED-TTL:PT1H
BEGIN:VTIMEZONE
TZID:UTC
BEGIN:STANDARD
TZOFFSETFROM:+0000
TZOFFSETTO:+0000
TZNAME:UTC
DTSTART:20240101T000000
END:STANDARD
END:VTIMEZONE
BEGIN:VEVENT
DTSTART;TZID=UTC:20240117T183000
DTEND;TZID=UTC:20240117T213000
DTSTAMP:20260422T110730
CREATED:20231229T171659Z
LAST-MODIFIED:20231229T171701Z
UID:6179-1705516200-1705527000@hketa.org.hk
SUMMARY:HKETA 16TH Annual Dinner 2024
DESCRIPTION:
URL:https://hketa.org.hk/event/hketa-16th-annual-dinner-2024/
CATEGORIES:Events
ATTACH;FMTTYPE=image/jpeg:https://hketa.org.hk/wp-content/uploads/2023/12/Annual-Dinner-2024-eFlyer.jpeg
END:VEVENT
END:VCALENDAR