BEGIN:VCALENDAR
VERSION:2.0
PRODID:-//Hong Kong Electronics &amp; Technologies Association - ECPv5.16.0//NONSGML v1.0//EN
CALSCALE:GREGORIAN
METHOD:PUBLISH
X-WR-CALNAME:Hong Kong Electronics &amp; Technologies Association
X-ORIGINAL-URL:https://hketa.org.hk
X-WR-CALDESC:Events for Hong Kong Electronics &amp; Technologies Association
REFRESH-INTERVAL;VALUE=DURATION:PT1H
X-Robots-Tag:noindex
X-PUBLISHED-TTL:PT1H
BEGIN:VTIMEZONE
TZID:UTC
BEGIN:STANDARD
TZOFFSETFROM:+0000
TZOFFSETTO:+0000
TZNAME:UTC
DTSTART:20230101T000000
END:STANDARD
END:VTIMEZONE
BEGIN:VEVENT
DTSTART;TZID=UTC:20230928T190000
DTEND;TZID=UTC:20230928T213000
DTSTAMP:20260422T152258
CREATED:20230921T102935Z
LAST-MODIFIED:20230921T103259Z
UID:5989-1695927600-1695936600@hketa.org.hk
SUMMARY:Sep 2023 Networking Sharing & Dinner
DESCRIPTION:Theme: “Conversation by the Moonlight: Nurturing Minds with AI in Business Growth and Education“ \n\n\n\nDate:  28 Sep 2023 (Thur) \n\n\n\nVenue: Happiness Cuisine\, 1/F Core Building 2\, Science Park\, Shatin\, N.T.Time:  7:00pm – 9:30pm \n\n\n\nDinner fee: \n\n\n\n$320/ person (member) \, $350/person (non member) \n\n\n\nCLICK HERE for registration! \n\n\n\n \n\n\n\nPROGRAMME RUNDOWN \n\n\n\n6:45 pm                       Registration and networking \n\n\n\n7:00 pm                       Networking sharing starts \n\n\n\n7:35 pm           Dinner starts \n\n\n\n \n\n\n\n(1) 7:00pm – “Leverage conversation AI to drive revenue and grow”  \n\n\n\n– by Jovian Ling\, co-founder of Chatalog AI \n\n\n\n(2) 7:20pm – “借力打力．學校如何推展人工智能課程” \n\n\n\n– by Wong Lai Ho\, Principal of SKH Chi Fu Chi Nam Primary School   \n\n\n\n9:25 pm      Dinner and networking \n\n\n\n9:30 pm        End of the event
URL:https://hketa.org.hk/event/sep-2023-networking-sharing-dinner/
CATEGORIES:Events
ATTACH;FMTTYPE=image/jpeg:https://hketa.org.hk/wp-content/uploads/2023/09/Sep-2023-Networking-Sharing-eFlyer-TL.jpg
END:VEVENT
END:VCALENDAR