BEGIN:VCALENDAR
VERSION:2.0
PRODID:-//Hong Kong Electronics &amp; Technologies Association - ECPv5.16.0//NONSGML v1.0//EN
CALSCALE:GREGORIAN
METHOD:PUBLISH
X-WR-CALNAME:Hong Kong Electronics &amp; Technologies Association
X-ORIGINAL-URL:https://hketa.org.hk
X-WR-CALDESC:Events for Hong Kong Electronics &amp; Technologies Association
REFRESH-INTERVAL;VALUE=DURATION:PT1H
X-Robots-Tag:noindex
X-PUBLISHED-TTL:PT1H
BEGIN:VTIMEZONE
TZID:UTC
BEGIN:STANDARD
TZOFFSETFROM:+0000
TZOFFSETTO:+0000
TZNAME:UTC
DTSTART:20230101T000000
END:STANDARD
END:VTIMEZONE
BEGIN:VEVENT
DTSTART;TZID=UTC:20230805T090000
DTEND;TZID=UTC:20230805T170000
DTSTAMP:20260422T174158
CREATED:20230212T154530Z
LAST-MODIFIED:20230719T020033Z
UID:5432-1691226000-1691254800@hketa.org.hk
SUMMARY:Innovate for Future 2023 Pitch Day (5 Aug 2023)
DESCRIPTION:HKETA’s Startup & Mentorship subcommittee is glad to announce that our Innovate for Future (IFF) 2023 is now open for registration.  \n \nIFF2023 is an open competition of innovation & technology to inspire our young people in Hong Kong to create innovative products or services for solving and improving our real life challenges\, though idea generation to prototype development. The competition may apply to all local schools including primary\, secondary and tertiary. Students will pitch how to move human society forward with feasible innovation and products in our coaching process.  The competition theme of this year is Social Innovation & Sustainability for Future.  \n \nThis competition is supported by our Technology & Support Sponsorsof IFF2023.  The final winners will have opportunity to be nominated to join their industry support programs.  This competition is also supported by our international partner\, San Jose State University (SJSU).  The final champion or winners will have opportunity to submit their projects to SJSU global program such as Silicon Valley Innovation Challenge (SVIC) Competition and Showcase.  \n \nFor more information on IFF2023 competition and registration\, please click https://www.innovateforfuture.com/
URL:https://hketa.org.hk/event/innovate-for-future-2023-is-open-for-registration/
CATEGORIES:Events
ATTACH;FMTTYPE=image/jpeg:https://hketa.org.hk/wp-content/uploads/2023/02/2023IFF_Poster_v4.0DL-scaled.jpg
END:VEVENT
END:VCALENDAR