BEGIN:VCALENDAR
VERSION:2.0
PRODID:-//Hong Kong Electronics &amp; Technologies Association - ECPv5.16.0//NONSGML v1.0//EN
CALSCALE:GREGORIAN
METHOD:PUBLISH
X-WR-CALNAME:Hong Kong Electronics &amp; Technologies Association
X-ORIGINAL-URL:https://hketa.org.hk
X-WR-CALDESC:Events for Hong Kong Electronics &amp; Technologies Association
REFRESH-INTERVAL;VALUE=DURATION:PT1H
X-Robots-Tag:noindex
X-PUBLISHED-TTL:PT1H
BEGIN:VTIMEZONE
TZID:UTC
BEGIN:STANDARD
TZOFFSETFROM:+0000
TZOFFSETTO:+0000
TZNAME:UTC
DTSTART:20230101T000000
END:STANDARD
END:VTIMEZONE
BEGIN:VEVENT
DTSTART;TZID=UTC:20230525T190000
DTEND;TZID=UTC:20230525T213000
DTSTAMP:20260422T214841
CREATED:20230509T081238Z
LAST-MODIFIED:20230509T091424Z
UID:5641-1685041200-1685050200@hketa.org.hk
SUMMARY:MAY 2023 Networking Sharing & Dinner
DESCRIPTION:Theme: “The Smart and Intelligent Era” \n\n\n\nDate:  25 May 2023 (Thur) \n\n\n\nVenue: : 沙田源禾路21號香港專業教育學院地下學生飯堂 (教職員餐廳)Time:  7:00pm – 9:30pm \n\n\n\nDinner fee: \n\n\n\n$320/ person (member)\, $350/person (non member) \n\n\n\n\n\n\n\nPROGRAMME RUNDOWN \n\n\n\n6:45 pm           Registration and networking \n\n\n\n7:00 pm           Networking sharing starts \n\n\n\n7:35 pm           Dinner starts \n\n\n\n(1) 7:00pm – “AI 不是元宇宙興一時的潮語 . 而是改變世界的典範轉移 – AI as a Paradigm Shift: Shaping the Future” \n\n\n\n– by Shek Ka Wai\, Founder of OMP Limited \n\n\n\n[Bio of Mr Shek] \n\n\n\nShek Ka Wai\, known as Shek\, graduated from the Department of Design at Caritas Bianchi College of Careers. In order to promote his own brand and products\, Shek began investigating digital marketing skills and has invested over HKD 2 million in Facebook Advertising to date.In 2014\, Shek founded Online Marketing Player (OMP)\, the first online learning platform focused on providing digital marketing lessons to enterprises. The lectures cover topics such as Knowledge of AI\, Digital Marketing\, Digital Transformations\, Advertising on Facebook\, Marketing Automation\, and Chatbot.Through both online and offline lectures\, OMP has trained over 3\,000 entrepreneurs from small and medium-sized enterprises in Hong Kong\, Macau\, Taiwan\, and Malaysia. OMP has also provided consulting services and internal training to companies such as Maxim’s Group\, German Pool\, LBS Group\, SUNSHINE Laundry\, HERBS\, Convoy\, and Ming Pao.Shek is frequently invited to give talks at colleges and institutions such as HKUST\, PolyU\, HKU\, BU\, OUHK\, IVE\, Cyberport\, and InnoCentre\, among others.Shek delivers his training mainly in Cantonese\, in a simple and relaxed way. He is frequently invited to give talks on the following topics:Knowledge of Digital Marketing FunnelsEngaging potential clients with high standalone revenue through the internetTechniques of Marketing AutomationFacebook Advertising (Workshop)Market Positioning and Advertising Message (Game-based Workshop)Digital Transformation (e-commerce)The retail industry’s new business model for retail\, B2C\, and C2CThe financial industry’s open bankingThe catering industry’s cloud kitchensShek is the author of “Inbound Marketing System\, a book published in February 2020 that serves as a guide to building a digital marketing system. \n\n\n\n   \n\n\n\n(2) 7:20pm – “Revolutionizing Compliance Documentation with AI: How to Save Time and Money While Ensuring Accuracy and Consistency” \n\n\n\n– by Colin Hong\, co-founder and CEO of DeepTranslate \n\n\n\n[Bio of Mr Hong] \n\n\n\nColin Hong is an accomplished business leader with over 30 years of experience in the financial document solutions industry. He is the co-founder and CEO of DeepTranslate\, an AI-powered document solutions company that provides cutting-edge solutions to clients around the world. \n\n\n\nPrior to co-founding DeepTranslate\, Mr. Hong served as the Managing Director of a Hong Kong listed company\, where he oversaw the development and implementation of innovative financial document solutions for clients across the Asia-Pacific region. With his extensive experience and deep understanding of the industry\, Mr. Hong has been able to guide DeepTranslate to become one of the leading companies in the field of AI document solutions. \n\n\n\nMr. Hong received his degree in Computer Science from Western University. As CEO of DeepTranslate\, he is responsible for the overall direction and strategy of the company. He is deeply committed to providing clients with the highest quality solutions that leverage the latest advances in artificial intelligence and machine learning. Under his leadership\, DeepTranslate has developed a reputation for excellence\, and has been recognized by clients and industry experts alike for its innovative solutions and exceptional customer service. \n\n\n\nIn his free time\, Mr. Hong enjoys traveling\, reading\, and spending time with his family. \n\n\n\n9:25 pm      Dinner and networking \n\n\n\n9:30 pm        End of the event
URL:https://hketa.org.hk/event/may-2023-networking-sharing-dinner/
CATEGORIES:Events
ATTACH;FMTTYPE=image/jpeg:https://hketa.org.hk/wp-content/uploads/2023/05/May-2023-networking-TL.jpg
END:VEVENT
END:VCALENDAR