BEGIN:VCALENDAR
VERSION:2.0
PRODID:-//Hong Kong Electronics &amp; Technologies Association - ECPv5.16.0//NONSGML v1.0//EN
CALSCALE:GREGORIAN
METHOD:PUBLISH
X-WR-CALNAME:Hong Kong Electronics &amp; Technologies Association
X-ORIGINAL-URL:https://hketa.org.hk
X-WR-CALDESC:Events for Hong Kong Electronics &amp; Technologies Association
REFRESH-INTERVAL;VALUE=DURATION:PT1H
X-Robots-Tag:noindex
X-PUBLISHED-TTL:PT1H
BEGIN:VTIMEZONE
TZID:UTC
BEGIN:STANDARD
TZOFFSETFROM:+0000
TZOFFSETTO:+0000
TZNAME:UTC
DTSTART:20230101T000000
END:STANDARD
END:VTIMEZONE
BEGIN:VEVENT
DTSTART;TZID=UTC:20230331T190000
DTEND;TZID=UTC:20230331T213000
DTSTAMP:20260422T232733
CREATED:20230307T131833Z
LAST-MODIFIED:20230307T131835Z
UID:5550-1680289200-1680298200@hketa.org.hk
SUMMARY:Mar 2023 Networking Sharing and Dinner
DESCRIPTION:Theme: “Transforming Healthcare and Education with AI: Empowering the Next Generation” \n\n\n\nDate:  31 Mar 2023 (Fri) \n\n\n\nVenue: Happiness Cuisine\, 1/F Core Building 2\, Science Park\, Shatin\, N.T.Time:  7:00pm – 9:30pm \n\n\n\nDinner fee: \n\n\n\n$320/ person (member) \, $350/person (non member) \n\n\n\nRegistration Link: https://forms.gle/Hd5B53NckdE74atW8 \n\n\n\n \n\n\n\nPROGRAMME RUNDOWN \n\n\n\n6:45 pm           Registration and networking \n\n\n\n7:00 pm           Networking sharing starts \n\n\n\n7:35 pm           Dinner starts \n\n\n\n(1) 7:00pm – “AI education for the youth\, with the youth”  \n\n\n\n        – by Cyron Chan\, Executive Director of MakerBay Foundation\, Hong Kong   \n\n\n\n(2) 7:20pm “AI 應用實務分享– 香港醫療實戰經驗”  \n\n\n\n       – by Mr Chapman Lee\, Director of Imsight Technology Co.\, Ltd. \n\n\n\n9:25 pm      Dinner and networking \n\n\n\n9:30 pm        End of the event
URL:https://hketa.org.hk/event/mar-2023-networking-sharing-and-dinner/
CATEGORIES:Events
ATTACH;FMTTYPE=image/jpeg:https://hketa.org.hk/wp-content/uploads/2023/03/31-Mar-networking-sharing.jpg
END:VEVENT
END:VCALENDAR