BEGIN:VCALENDAR
VERSION:2.0
PRODID:-//Hong Kong Electronics &amp; Technologies Association - ECPv5.16.0//NONSGML v1.0//EN
CALSCALE:GREGORIAN
METHOD:PUBLISH
X-WR-CALNAME:Hong Kong Electronics &amp; Technologies Association
X-ORIGINAL-URL:https://hketa.org.hk
X-WR-CALDESC:Events for Hong Kong Electronics &amp; Technologies Association
REFRESH-INTERVAL;VALUE=DURATION:PT1H
X-Robots-Tag:noindex
X-PUBLISHED-TTL:PT1H
BEGIN:VTIMEZONE
TZID:UTC
BEGIN:STANDARD
TZOFFSETFROM:+0000
TZOFFSETTO:+0000
TZNAME:UTC
DTSTART:20230101T000000
END:STANDARD
END:VTIMEZONE
BEGIN:VEVENT
DTSTART;TZID=UTC:20230329T093000
DTEND;TZID=UTC:20230329T174000
DTSTAMP:20260422T232617
CREATED:20230303T082828Z
LAST-MODIFIED:20230303T083334Z
UID:5479-1680082200-1680111600@hketa.org.hk
SUMMARY:How AIoT Technologies Reinvent our Daily Environment’ Conference
DESCRIPTION:Organized by Schools of Graduate Study and Institute of Data Science\, Lingnan University \n\n\n\nInnovation and Impact (IIF) Conference titled “How AIoT Technologies Reinvent our Daily Environment”. Details as follows: \n\n\n\nConference Information:• Date: 29 March 2023• Time: 9:30-17:40• Venue: Room 601\, 6/F Union Park Centre\, 771-775 Nathan Rd\, Prince Edward• Conference Mode (Dual): Face-to-face and Zoom for online participants \n\n\n\nWebpage: ‘How AIoT Technologies Reinvent our Daily Environment’ Conference (ln.edu.hk)  \n\n\n\nRegistration: Qualtrics Survey | Qualtrics Experience Management  \n\n\n\n \n\n\n\nIIF Conference:Leader: Prof. SEE-TO Wing Kuen\, EricConvenor: Prof. Ir. Rosiah Ho \n\n\n\nOrganizer: Department of Computing & Decision Sciences\, Lingnan University \n\n\n\nSupported by: School of Graduate Studies (SGS)\, Lingnan UniversityLU-SCUT Joint Research Centre for GBA\, Lingnan University \n\n\n\nThe IIF Conference is a full-day workshop being curated by Lingnan University\, with an audience of about 30-40\, made up by our supporting companies. Our goal is to promote wider applications of AI/AIoT and the relevant issues via U2I knowledge transfer.
URL:https://hketa.org.hk/event/how-aiot-technologies-reinvent-our-daily-environment-conference/
CATEGORIES:Events
ATTACH;FMTTYPE=image/jpeg:https://hketa.org.hk/wp-content/uploads/2023/03/LU_AIoT_Conference_2400x760px-01.jpg
END:VEVENT
END:VCALENDAR