BEGIN:VCALENDAR
VERSION:2.0
PRODID:-//Hong Kong Electronics &amp; Technologies Association - ECPv5.16.0//NONSGML v1.0//EN
CALSCALE:GREGORIAN
METHOD:PUBLISH
X-ORIGINAL-URL:https://hketa.org.hk
X-WR-CALDESC:Events for Hong Kong Electronics &amp; Technologies Association
REFRESH-INTERVAL;VALUE=DURATION:PT1H
X-Robots-Tag:noindex
X-PUBLISHED-TTL:PT1H
BEGIN:VTIMEZONE
TZID:UTC
BEGIN:STANDARD
TZOFFSETFROM:+0000
TZOFFSETTO:+0000
TZNAME:UTC
DTSTART:20230101T000000
END:STANDARD
END:VTIMEZONE
BEGIN:VEVENT
DTSTART;TZID=UTC:20230628T080000
DTEND;TZID=UTC:20230628T180000
DTSTAMP:20260422T190458
CREATED:20230420T112846Z
LAST-MODIFIED:20230420T112848Z
UID:5636-1687939200-1687975200@hketa.org.hk
SUMMARY:HKICT Awards 2023: Smart Living Award
DESCRIPTION:Steered by the Office of the Government Chief Information Officer (OGCIO) and organized by Hong Kong Information Technology Federation (HKITF)\, the HKICT Awards 2023 aims at recognising outstanding products and solutions that promotes and facilitates a smart mode of enjoyable and convenient living through capitalising on ICT advancements. Smart Living Award comprises three award streams\, “Smart Healthcare”\, “Smart Home”\, and “Smart Lifestyle”.Winners will be recognized and awarded by the industry\, and will have the opportunity to participate in renowned regional or international ICT events.  If you have innovative products or solutions in the field of smart living\, please do not miss this opportunity and register immediately.  Enrolment opens from now till 28 June 2023 noon time. \n\n\n\nDetails and Enrolment:  https://smartliving.ictawards.hk \n\n\n\n「2023香港資訊及通訊科技獎：智慧生活獎」- 現正接受報名 \n\n\n\n由政府資訊科技總監辦公室領導，香港資訊科技商會籌辦的「2023香港資訊及通訊科技獎：智慧生活獎」，旨在表彰傑出的資訊及通訊科技研發以推動及促進優質的智慧生活的產品和方案。智慧生活獎包括三個獎項類別：「智慧醫療」、「智能家居」和「生活時尚」。 \n\n\n\n獲獎者將獲得業界的肯定和表彰，並且有機會參加享有盛名的區域或國際ICT活動。如果您在智慧生活領域有創新的產品或方案，請不要錯過這個機會，立即報名參加。報名截止日期為2023年6月28日中午。 \n\n\n\n報名及詳情 :  https://smartliving.ictawards.hk
URL:https://hketa.org.hk/event/hkict-awards-2023-smart-living-award/
CATEGORIES:Events
ATTACH;FMTTYPE=image/jpeg:https://hketa.org.hk/wp-content/uploads/2023/04/edm_2023-scaled.jpg
END:VEVENT
BEGIN:VEVENT
DTSTART;TZID=UTC:20230629T000000
DTEND;TZID=UTC:20230629T000000
DTSTAMP:20260422T190458
CREATED:20230509T093131Z
LAST-MODIFIED:20230510T032300Z
UID:5647-1687996800-1687996800@hketa.org.hk
SUMMARY:Hong Kong ICT Awards: ICT Startup Award 2023
DESCRIPTION:現正接受網上報名 \n\n\n\n截止時間：2023年6月29日 (香港時間0:00AM) \n\n\n\n官方網站：https://www.ictstartup.org \n\n\n\n由香港無線科技商會主辦， 政府資訊科技總監辦公室 Office of the Government Chief Information Officer 籌辦的Hong Kong ICT Awards: ICT Startup Award 2023現正接受報名。 \n\n\n\n 作為初創業界年度盛事，參加隨時有機會比VC，投資者，同業界專業人士發掘，創出一片天。 \n\n\n\n到有興趣嘅Startup 朋友記著報名啦！有咩問題隨時聯絡我哋 \n\n\n\n#WTIA #Startup #初創 #ICT #Award #比實 #VC #venturecaptal  #Investor #Competition #Software #Hardware #Social
URL:https://hketa.org.hk/event/hong-kong-ict-awards-ict-startup-award-2023/
CATEGORIES:Events
ATTACH;FMTTYPE=image/png:https://hketa.org.hk/wp-content/uploads/2023/05/Main_Design_Banner.png
END:VEVENT
BEGIN:VEVENT
DTSTART;TZID=UTC:20230630T033000
DTEND;TZID=UTC:20230630T173000
DTSTAMP:20260422T190458
CREATED:20230615T115714Z
LAST-MODIFIED:20230616T114710Z
UID:5706-1688095800-1688146200@hketa.org.hk
SUMMARY:Visit to ASTRI
DESCRIPTION:(Applied Science and Technology Research Institute) \n\n\n\n\n\nDate:  30 Jun 2023 (Fri) \n\n\n\nTime:  3:30pm – 5:30pm \n\n\n\nVenue:  沙田香港科學園科技大道東2號光電子中心地下應科院創新科研中心 \n\n\n\nCost:  Free \n\n\n\nMax Capacity:  20 for HKETA Members only (First come first served) \n\n\n\nRegistration Deadline:  \n\n\n\n5:00pm   Jun 27\, 2023 (Tue) \n\n\n\nClick Here for Registration!
URL:https://hketa.org.hk/event/visit-to-astri/
CATEGORIES:Events
ATTACH;FMTTYPE=image/jpeg:https://hketa.org.hk/wp-content/uploads/2023/06/Rev.-Visit-to-ASTRI-20230630-2.jpg
END:VEVENT
BEGIN:VEVENT
DTSTART;TZID=UTC:20230630T190000
DTEND;TZID=UTC:20230630T213000
DTSTAMP:20260422T190458
CREATED:20230616T115831Z
LAST-MODIFIED:20230623T130221Z
UID:5718-1688151600-1688160600@hketa.org.hk
SUMMARY:30 Jun 2023 Networking Sharing and Dinner
DESCRIPTION:Theme: “Sparkling Innovations: Hong Kong R&D Unleashed” \n\n\n\nDate:  30 Jun 2023 (Fri) \n\n\n\nVenue: Happiness Cuisine\, 1/F Core Building 2\, Science Park\, Shatin\, N.T.Time:  7:00pm – 9:30pm \n\n\n\nDinner fee: \n\n\n\n$320/ person (member) \, $350/person (non member) \n\n\n\n \n\n\n\nCLICK HERE for registration! \n\n\n\n \n\n\n\nPROGRAMME RUNDOWN \n\n\n\n6:45 pm                       Registration and networking \n\n\n\n7:00 pm                       Networking sharing starts \n\n\n\n7:35 pm                       Dinner starts \n\n\n\n(1) 7:00pm – “”NAMI electrocaloric materials for high-efficiency electronic cooling and refrigeration”  \n\n\n\n– by Dr. Liam Zhao\, Senior Engineer of Nano and Advanced Materials Institute \n\n\n\n[Abstract]: Traditional vapor compression-based refrigeration is often associated with environmental impact of the refrigerants and the thermoelectric cooler (TEC) that is commonly used in electronic cooling suffers from extremely low efficiency. To find a solution for both environmental and efficiency issues\, electrocaloric refrigeration (ER) has been brought under the spotlight. As an eco-friendly emerging technique\, ER’s main innovation consists in high energy efficiency and employing solid materials as refrigerant\, instead of the fluids that used in vapor compression systems. NAMI’s mission is to develop novel electrocaloric materials with remarkable electrocalroic effect\, high reliability and low cost to satisfy the requirements of practical refrigeration and cooling applications. \n\n\n\n[Bio]: Dr. Liam Zhao is a senior engineer of NAMI Electronics sector\, working on novel thermal-related electronic materials and new technologies of thermal management. Prior to joining NAMI in July 2020\, Liam was first a PhD candidate\, then a postdoctoral researcher in MAE department\, HKUST\, working on multifunctional composites based on 2D materials. After joining NAMI\, Liam was mainly involved in thermal interface material (TIM) development and has won several international science and technology awards\, including R&D100 and Geneva. \n\n\n\n(2) 7:20pm – ““Light-weight adaptive IoT Intrusion Detection and Prevention System (IDS/IPS) enabled by AI”– by Mr. Ricky LEUNG\, Deputy Director of Trust and AI Technologies\, ASTRI’   \n\n\n\n[Bio]: Ricky LEUNG is the R&D leader of the cyber security team in ASTRI. He initiated various cybersecurity and blockchain related projects with various government departments and private organizations in the fields of threat intelligence hunting and analysis\, intrusion detection and prevention\, malware analysis\, credential sharing and privacy preserving\, trusted traceability & tracking\, and sustainable development. \n\n\n\nBefore entering ASTRI\, he was working in Logistics and Supply Chain Multitech R&D Centre (LSCM) and Infotronic Technology Ltd. for emerging smart logistics\, robotics and construction technologies. Furthermore\, he co-founded and managed an technology company for over 20 years with various leading technologies. He was graduated in MPhil. of Computer Science in HKUST and BSc.(Hon) of Information Technology in City University of HK. \n\n\n\n9:25 pm      Dinner and networking \n\n\n\n9:30 pm        End of the event
URL:https://hketa.org.hk/event/30-jun-2023-networking-sharing-and-dinner/
CATEGORIES:Events
ATTACH;FMTTYPE=image/jpeg:https://hketa.org.hk/wp-content/uploads/2023/06/Jun_2023_Networking_sharing-V2.jpg
END:VEVENT
END:VCALENDAR